BEGIN:VCALENDAR
BEGIN:VEVENT
SUMMARY:erǐomarǐe (Ariel Vera)\, Wishbone Zoe\, Stimmerman\, MultiGoji [
 nycnoise]
DTSTART:20260325T230000Z
DTEND:20260326T000000Z
UID:c9003ea1-bedf-4308-b4ac-f799d3302c7f
CREATED:20260425T131000Z
DESCRIPTION:link to flyer\, also insta\; arrive early for seat
LOCATION:brothers wash & dry laundromat (5420 nurge ave\, queens)
END:VEVENT
END:VCALENDAR
