BEGIN:VCALENDAR
BEGIN:VEVENT
SUMMARY:Shahryar Shahamat #4/4 [nycnoise]
DTSTART:20260329T180000Z
DTEND:20260329T190000Z
UID:cc02c173-14ba-4e8b-83d1-e6e0cfc52a57
CREATED:20260425T130959Z
DESCRIPTION:butoh performance + paintings
LOCATION:brick aux (628 metropolitan ave\, brooklyn)
END:VEVENT
END:VCALENDAR
