BEGIN:VCALENDAR
BEGIN:VEVENT
SUMMARY:environs XII: Logan Takahashi\, Paul Sakai/Mark Chinen\, Morgan Bo
 yle\, Leftpop\, paper gem (DJ) [nycnoise]
DTSTART:20260329T230000Z
DTEND:20260330T000000Z
UID:8ba6045e-9715-4026-9296-1286ecb357c4
CREATED:20260425T130527Z
DESCRIPTION:
LOCATION:dada (6047 Myrtle Ave\, Queens\, NY 11385)
END:VEVENT
END:VCALENDAR
