BEGIN:VCALENDAR
BEGIN:VEVENT
SUMMARY:Bellcave s3 ep10: orchiddBB (Orchid McRae\, Jen Sapiro\, Vivek Men
 on\, Mario Fontes\, Hans Young Binter)\, Chase Elodia\, Kwami Winfield [ny
 cnoise]
DTSTART:20260423T230000Z
DTEND:20260424T000000Z
UID:7ed86bf7-51ef-4490-9bb3-b8e81a3d5fc6
CREATED:20260425T110955Z
DESCRIPTION:
LOCATION:bellcave
END:VEVENT
END:VCALENDAR
