BEGIN:VCALENDAR
BEGIN:VEVENT
SUMMARY:XAVIER BDAY: Grey Mcmurray\, Confusing the Audience (Mat Muntz\, X
 avier Del Castillo\, Ben Goldberg\, Scott Amendola) [nycnoise]
DTSTART:20260327T233000Z
DTEND:20260328T003000Z
UID:e0c1ae05-30f7-40ca-b9e6-d1f958c985c5
CREATED:20260425T130733Z
DESCRIPTION:7pm doors\; link to flyer\, also on insta\; xavier's place\, w
 ish him a happy bday for sunday!!! also "homemade smoked ribs &amp\; focac
 cia to feast upon before the show"
LOCATION:banff 2
END:VEVENT
END:VCALENDAR
