BEGIN:VCALENDAR
BEGIN:VEVENT
SUMMARY:Phantasma: 1morning\, DJ Clone\, Nymph\, Eli Escobar [nycnoise]
DTSTART:20260328T013000Z
DTEND:20260328T023000Z
UID:4c9a2414-c251-4bf6-8d80-46b8ea7d8d29
CREATED:20260425T130851Z
DESCRIPTION:
LOCATION:paragon (990 broadway\, brooklyn)
END:VEVENT
END:VCALENDAR
