BEGIN:VCALENDAR
BEGIN:VEVENT
SUMMARY:James McKain & James Paul Nadien\, Beth Ann Jones\, Chris LiButti 
 [nycnoise]
DTSTART:20260401T003000Z
DTEND:20260401T013000Z
UID:411864ae-8256-4ab0-bf98-9e0ab4e6b434
CREATED:20260425T130958Z
DESCRIPTION:
LOCATION:freddy's (627 5th ave\, brooklyn)
END:VEVENT
END:VCALENDAR
