BEGIN:VCALENDAR
BEGIN:VEVENT
SUMMARY:Lust Complex: VILE\, Bo1led Angel\, motiv-a\, NIGHTVVITCH [nycnois
 e]
DTSTART:20260331T020000Z
DTEND:20260331T030000Z
UID:d1ef09e4-42b2-4eb1-ba89-874b2cc6b7b6
CREATED:20260425T130851Z
DESCRIPTION:
LOCATION:bossa nova civic club (1271 myrtle ave\, brooklyn)
END:VEVENT
END:VCALENDAR
