BEGIN:VCALENDAR
BEGIN:VEVENT
SUMMARY:DMG Free Tues: Beyond Flute Group\, Gían Pérez\, Josh Sinton & M
 arty Ehrlich\, Killick Hines / Chuck Bettis / Jerry Lim [nycnoise]
DTSTART:20260414T223000Z
DTEND:20260414T233000Z
UID:46952d60-176b-48b0-8261-44a265550954
CREATED:20260425T110946Z
DESCRIPTION:BFG: Cheryl Pyle\, Michael Eaton\, Gene Coleman\, Sylvain Lero
 ux
LOCATION:downtown music gallery (13 monroe st.\, manhattan)
END:VEVENT
END:VCALENDAR
