BEGIN:VCALENDAR
BEGIN:VEVENT
SUMMARY:DMG Free Tues x Relative Pitch: Duos & Trio: Chuck Roth\, Reut Reg
 ev\, Kelsey Mines [nycnoise]
DTSTART:20260421T223000Z
DTEND:20260421T233000Z
UID:f35ea1cb-af88-4cce-b045-568bf65af901
CREATED:20260425T111027Z
DESCRIPTION:
LOCATION:downtown music gallery (13 monroe st.\, manhattan)
END:VEVENT
END:VCALENDAR
