BEGIN:VCALENDAR
BEGIN:VEVENT
SUMMARY:Abasement #86: JG Thirlwell's Xordox\, Hans Tammen / Ronnie Ahlbor
 n / Yaching Cheung\, Leo Chang\, Dreamcrusher / Bonnie Baxter / Samantha R
 iott\, DJ Miggy\, Katherine Liberovskaya (visuals)\, Bradley Eros (project
 ions) [nycnoise]
DTSTART:20260406T230000Z
DTEND:20260407T000000Z
UID:3ab17984-61ae-4f24-9808-c266549b7603
CREATED:20260425T110816Z
DESCRIPTION:insta
LOCATION:artists space (11 cortlandt alley\, manhattan)
END:VEVENT
END:VCALENDAR
