BEGIN:VCALENDAR
BEGIN:VEVENT
SUMMARY:Jay Reinier: 'Wave Collapse' [nycnoise]
DTSTART:20260412T233000Z
DTEND:20260413T003000Z
UID:809fda48-a09c-4ef7-b2a4-fee487fd4530
CREATED:20260425T110946Z
DESCRIPTION:performers include brynn asha walker\, ari glenn mombrea\; add
 itional visuals &amp\; sound design by Jack Hamill &amp\; walker
LOCATION:cpr (center for performance research) (361 manhattan ave\, brookl
 yn)
END:VEVENT
END:VCALENDAR
