BEGIN:VCALENDAR
BEGIN:VEVENT
SUMMARY:RUBY\, imaginary prisons\, Shiloh Blue\, noeisgirl [nycnoise]
DTSTART:20260405T233000Z
DTEND:20260406T003000Z
UID:659be7a9-4c83-446c-899a-6de368ea22f4
CREATED:20260425T110826Z
DESCRIPTION:
LOCATION:living gallery (1094 broadway\, brooklyn)
END:VEVENT
END:VCALENDAR
