BEGIN:VCALENDAR
BEGIN:VEVENT
SUMMARY:Rahul Carlberg (w/ David Truilo\, Anna Abondolo\, Jacob Patrone) [
 nycnoise]
DTSTART:20260403T023000Z
DTEND:20260403T033000Z
UID:bc898675-0673-4f3a-a4a5-751ceb00ba3a
CREATED:20260425T110659Z
DESCRIPTION:10:30pm set\, 11:30pm session
LOCATION:close up jazz (154 Orchard St\, New York\, NY 10002\, United Stat
 es)
END:VEVENT
END:VCALENDAR
