BEGIN:VCALENDAR
BEGIN:VEVENT
SUMMARY:Yvonne Rogers [nycnoise]
DTSTART:20260410T023000Z
DTEND:20260410T033000Z
UID:d99ab6a3-c6f9-4a60-a5e2-e3b4aff2aa18
CREATED:20260425T110628Z
DESCRIPTION:10:30pm set\, 11:30pm session
LOCATION:close up jazz (154 Orchard St\, New York\, NY 10002\, United Stat
 es)
END:VEVENT
END:VCALENDAR
