BEGIN:VCALENDAR
BEGIN:VEVENT
SUMMARY:Elephant (Adam O'Farrill\, Yvonne Rogers\, Walter Stinson\, Russel
 l Holtzman)\, Night #1/2 [nycnoise]
DTSTART:20260412T000000Z
DTEND:20260412T010000Z
UID:df50b633-e484-4363-8b53-6b3540a0668e
CREATED:20260425T111128Z
DESCRIPTION:8pm tix + 10pm tix
LOCATION:close up jazz (154 Orchard St\, New York\, NY 10002\, United Stat
 es)
END:VEVENT
END:VCALENDAR
