BEGIN:VCALENDAR
BEGIN:VEVENT
SUMMARY:Fay Victor (w/ Chris Williams\, Liany Mateo\, Lesley Mok) [nycnois
 e]
DTSTART:20260429T233000Z
DTEND:20260430T003000Z
UID:1170bbd8-cd5b-486b-8b22-fa7ad6b5c713
CREATED:20260425T091704Z
DESCRIPTION:7:30pm tix + 9pm tix
LOCATION:close up jazz (154 Orchard St\, New York\, NY 10002\, United Stat
 es)
END:VEVENT
END:VCALENDAR
