BEGIN:VCALENDAR
BEGIN:VEVENT
SUMMARY:Brandon Seabrook Banjo Fest Sat #1/4 (w/ Sylvie Courvoisier\, Zeen
 a Parkins) [nycnoise]
DTSTART:20260404T220000Z
DTEND:20260404T230000Z
UID:27dc833c-4ab8-429f-99cb-e2582f669b4a
CREATED:20260425T111027Z
DESCRIPTION:
LOCATION:barbès (376 9th st.\, brooklyn)
END:VEVENT
END:VCALENDAR
