BEGIN:VCALENDAR
BEGIN:VEVENT
SUMMARY:Brandon Seabrook Banjo Fest Sat #3/4 (w/ Henry Fraser\, Kayvon Gor
 don\, Kenny Wollesen) [nycnoise]
DTSTART:20260418T220000Z
DTEND:20260418T230000Z
UID:54c398dd-517d-42d6-b3ce-25d90864f414
CREATED:20260425T111026Z
DESCRIPTION:
LOCATION:barbès (376 9th st.\, brooklyn)
END:VEVENT
END:VCALENDAR
