BEGIN:VCALENDAR
BEGIN:VEVENT
SUMMARY:Brandon Seabrook Banjo Fest Sat #4/4 (w/ Ingrid Laubrock\, Josh Mo
 dney) [nycnoise]
DTSTART:20260425T220000Z
DTEND:20260425T230000Z
UID:73cf4fc2-eb79-47d5-be3c-0cf0856ffb53
CREATED:20260425T110627Z
DESCRIPTION:
LOCATION:barbès (376 9th st.\, brooklyn)
END:VEVENT
END:VCALENDAR
