BEGIN:VCALENDAR
BEGIN:VEVENT
SUMMARY:Vicky Chow & Mivos Quartet perform Morton Feldman's 'Piano and Str
 ing Quartet' [nycnoise]
DTSTART:20260409T000000Z
DTEND:20260409T010000Z
UID:b44b55ae-8769-42fc-a4fe-c7582acdcdc0
CREATED:20260425T111129Z
DESCRIPTION:7pm doors
LOCATION:roulette (509 atlantic ave\, brooklyn)
END:VEVENT
END:VCALENDAR
