BEGIN:VCALENDAR
BEGIN:VEVENT
SUMMARY:María Grand Quartet\, Nite Bjuti (Album Release\; Candice Hoyes\,
  Val Jeanty\, Mimi Jones) [nycnoise]
DTSTART:20260415T000000Z
DTEND:20260415T010000Z
UID:fb1f922c-30b6-4555-bdf0-d704a3afe29d
CREATED:20260425T110955Z
DESCRIPTION:7pm doors\; MG4 w/ Ryoma Takenaga\, Miguel Russell\, Shakoor H
 akeem\; new album link asap\, 2023's nite bjuti on bandcamp (ft. tough af 
 album cover)
LOCATION:roulette (509 atlantic ave\, brooklyn)
END:VEVENT
END:VCALENDAR
