BEGIN:VCALENDAR
BEGIN:VEVENT
SUMMARY:Lukas Ligeti's Notebook (CD Release) [nycnoise]
DTSTART:20260416T000000Z
DTEND:20260416T010000Z
UID:cd71ae8a-63b1-4063-9832-e90afe2e3caf
CREATED:20260425T110918Z
DESCRIPTION:7pm doors\, LLN w/ Daniel Blake\, Ricardo Gallo\, Tom McNalley
 \, Eyal Maoz\, Adrianna Mateo\, Rick Parker\; album on bandcamp
LOCATION:roulette (509 atlantic ave\, brooklyn)
END:VEVENT
END:VCALENDAR
