BEGIN:VCALENDAR
BEGIN:VEVENT
SUMMARY:Jeff Mills Cinemix of Metropolis [nycnoise]
DTSTART:20260417T000000Z
DTEND:20260417T010000Z
UID:6ce1fd5a-f052-4c80-ade5-dbd5a3c4e3d1
CREATED:20260425T111027Z
DESCRIPTION:7pm doors
LOCATION:roulette (509 atlantic ave\, brooklyn)
END:VEVENT
END:VCALENDAR
