BEGIN:VCALENDAR
BEGIN:VEVENT
SUMMARY:Jade Guterman: Jadelain ensemble [nycnoise]
DTSTART:20260423T000000Z
DTEND:20260423T010000Z
UID:f617c312-03af-4c18-949e-1080acf7068e
CREATED:20260425T110815Z
DESCRIPTION:7pm doors\; LIVESTREAM
LOCATION:roulette (509 atlantic ave\, brooklyn)
END:VEVENT
END:VCALENDAR
