BEGIN:VCALENDAR
BEGIN:VEVENT
SUMMARY:Interpretations: Thomas Buckner & James Ilgenfritz (w/ Katie Porte
 r\, Eli Wallace) [nycnoise]
DTSTART:20260424T000000Z
DTEND:20260424T010000Z
UID:2e282c0a-5578-4b1c-bcc2-ab7b52291a6b
CREATED:20260425T110954Z
DESCRIPTION:7pm doors\; LIVESTREAM
LOCATION:roulette (509 atlantic ave\, brooklyn)
END:VEVENT
END:VCALENDAR
