BEGIN:VCALENDAR
BEGIN:VEVENT
SUMMARY:Long Play: Goat [nycnoise]
DTSTART:20260430T000000Z
DTEND:20260430T010000Z
UID:f5ab6a68-ccf6-4286-a84a-92bfaf3a5225
CREATED:20260425T092006Z
DESCRIPTION:7pm doors
LOCATION:roulette (509 atlantic ave\, brooklyn)
END:VEVENT
END:VCALENDAR
