BEGIN:VCALENDAR
BEGIN:VEVENT
SUMMARY:Long Play: Suzanne Bocanegra [nycnoise]
DTSTART:20260501T000000Z
DTEND:20260501T010000Z
UID:b5294853-145d-4550-85ea-9af33dcd6d01
CREATED:20260425T110617Z
DESCRIPTION:7pm doors
LOCATION:roulette (509 atlantic ave\, brooklyn)
END:VEVENT
END:VCALENDAR
