BEGIN:VCALENDAR
BEGIN:VEVENT
SUMMARY:The Music Quintet\, Johannes Ravn Band\, Caylie Davis & alana amor
 e colvin [nycnoise]
DTSTART:20260406T230000Z
DTEND:20260407T000000Z
UID:60a06ff9-3db6-4d59-a010-d05448956169
CREATED:20260425T111129Z
DESCRIPTION:
LOCATION:brothers wash & dry laundromat (5420 nurge ave\, queens)
END:VEVENT
END:VCALENDAR
