BEGIN:VCALENDAR
BEGIN:VEVENT
SUMMARY:Voicehandler (Danishta Rivero & Jacob Felix-Huele)\, Orchid McRae 
 / Lulu West / Paul Sakai\, Leni Kreienberg & Connor Simmons [nycnoise]
DTSTART:20260414T230000Z
DTEND:20260415T000000Z
UID:3aa0afd7-ad3d-458e-b50d-dda95e6712b2
CREATED:20260425T110658Z
DESCRIPTION:
LOCATION:brothers wash & dry laundromat (5420 nurge ave\, queens)
END:VEVENT
END:VCALENDAR
