BEGIN:VCALENDAR
BEGIN:VEVENT
SUMMARY:Yoona Kim & Nick Neuburg\, Matei Predescu\, Orchid McRae (text onl
 y set) [nycnoise]
DTSTART:20260421T230000Z
DTEND:20260422T000000Z
UID:5daab4a2-1e2a-452e-a3bd-1eaa93cb2310
CREATED:20260425T110628Z
DESCRIPTION:
LOCATION:brothers wash & dry laundromat (5420 nurge ave\, queens)
END:VEVENT
END:VCALENDAR
