BEGIN:VCALENDAR
BEGIN:VEVENT
SUMMARY:TBA [nycnoise]
DTSTART:20260424T000000Z
DTEND:20260424T010000Z
UID:e0a751b8-1251-4fc5-b097-0f013061608e
CREATED:20260425T111129Z
DESCRIPTION:lineup asap
LOCATION:brothers wash & dry laundromat (5420 nurge ave\, queens)
END:VEVENT
END:VCALENDAR
