BEGIN:VCALENDAR
BEGIN:VEVENT
SUMMARY:alana amore colvin group\, Anna Fortuna Group\, UNGANO [nycnoise]
DTSTART:20260424T230000Z
DTEND:20260425T000000Z
UID:b40a269a-d340-41d5-ad5a-9ef3ac08a551
CREATED:20260425T110918Z
DESCRIPTION:
LOCATION:brothers wash & dry laundromat (5420 nurge ave\, queens)
END:VEVENT
END:VCALENDAR
