BEGIN:VCALENDAR
BEGIN:VEVENT
SUMMARY:TBA [nycnoise]
DTSTART:20260426T000000Z
DTEND:20260426T010000Z
UID:9e89ce15-8ae0-41b9-8d26-2304cedf3d3c
CREATED:20260425T091930Z
DESCRIPTION:lineup asap
LOCATION:brothers wash & dry laundromat (5420 nurge ave\, queens)
END:VEVENT
END:VCALENDAR
