BEGIN:VCALENDAR
BEGIN:VEVENT
SUMMARY:Apollo's Adoptiversary / Rent Fundraiser / B2b Dog Music Sets by: 
 Sampson Dahl\, Lulu West\, Shiloh Blue\, Kay Nova\, Kseniya\, Kwami Winfie
 ld\, Aaron Quinn\, Cal Fish\, Selendis Sebastian Alexander Johnson\, Vinto
 n Surf\, Orchid McRae [nycnoise]
DTSTART:20260427T230000Z
DTEND:20260428T000000Z
UID:1154fab7-eacb-4c24-b2b4-256e863e6641
CREATED:20260425T092049Z
DESCRIPTION:"an evening of dog music"\; v limited capacity\, but click thr
 u for details if you wanna bring dog\;&nbsp\;donate via open collective or
  venmo (note "brothers rent")
LOCATION:brothers wash & dry laundromat (5420 nurge ave\, queens)
END:VEVENT
END:VCALENDAR
