BEGIN:VCALENDAR
BEGIN:VEVENT
SUMMARY:Casa.Gaza Land Back For Land Day: Warphole\, Warboi\, FOCO\, Torme
 nta [nycnoise]
DTSTART:20260403T223000Z
DTEND:20260403T233000Z
UID:b1f0d596-73d4-4e67-9dbe-4c7d4c52523f
CREATED:20260425T110529Z
DESCRIPTION:
LOCATION:p.i.t. (property is theft) (411 s. 5th st.\, brooklyn)
END:VEVENT
END:VCALENDAR
