BEGIN:VCALENDAR
BEGIN:VEVENT
SUMMARY:Shotwell\, Choked Up\, Sub Rosa\, Wizard Moded [nycnoise]
DTSTART:20260410T220000Z
DTEND:20260410T230000Z
UID:608ae415-5786-4fce-bc13-0ed67a074c63
CREATED:20260425T110946Z
DESCRIPTION:
LOCATION:p.i.t. (property is theft) (411 s. 5th st.\, brooklyn)
END:VEVENT
END:VCALENDAR
