BEGIN:VCALENDAR
BEGIN:VEVENT
SUMMARY:ABC NO RIO Benefit: Drogato\, Mantis\, Spirokete\, Death by Despai
 r [nycnoise]
DTSTART:20260411T220000Z
DTEND:20260411T230000Z
UID:61c69ae6-2c84-4fef-adf4-ccb59b024161
CREATED:20260425T110739Z
DESCRIPTION:
LOCATION:p.i.t. (property is theft) (411 s. 5th st.\, brooklyn)
END:VEVENT
END:VCALENDAR
