BEGIN:VCALENDAR
BEGIN:VEVENT
SUMMARY:Outlier presents Ber Trios: Samuel Ber / Michael Foster / Brandon 
 Lopez\, Ber / Todd Neufeld / Thomas Morgan [nycnoise]
DTSTART:20260412T223000Z
DTEND:20260412T233000Z
UID:6cdda242-db8c-4748-aa86-ae370b0cc6d2
CREATED:20260425T110658Z
DESCRIPTION:6pm doors\, more info on insta
LOCATION:p.i.t. (property is theft) (411 s. 5th st.\, brooklyn)
END:VEVENT
END:VCALENDAR
