BEGIN:VCALENDAR
BEGIN:VEVENT
SUMMARY:Spectre Folk\, Vague Plot\, Gray / Smith / Speer [nycnoise]
DTSTART:20260424T220000Z
DTEND:20260424T230000Z
UID:4fb69b80-b473-408e-b0b6-fd32ac2c4955
CREATED:20260425T110740Z
DESCRIPTION:
LOCATION:p.i.t. (property is theft) (411 s. 5th st.\, brooklyn)
END:VEVENT
END:VCALENDAR
