BEGIN:VCALENDAR
BEGIN:VEVENT
SUMMARY:Homelessness Solidarity Benefit Show: Ditch\, Reya Flowers\, JJAGU
 NOMAQU\, Flesh Eater [nycnoise]
DTSTART:20260426T220000Z
DTEND:20260426T230000Z
UID:36d926d8-c35d-436a-a5dd-766ab10b0a7b
CREATED:20260425T091929Z
DESCRIPTION:
LOCATION:p.i.t. (property is theft) (411 s. 5th st.\, brooklyn)
END:VEVENT
END:VCALENDAR
