BEGIN:VCALENDAR
BEGIN:VEVENT
SUMMARY:Bob Holman & Mivos Quartet: 'Life Poem\,' Night #2/2 [nycnoise]
DTSTART:20260429T233000Z
DTEND:20260430T003000Z
UID:69379b2d-01d9-4f53-acda-8af77a2c5d01
CREATED:20260425T110616Z
DESCRIPTION:6:30pm doors
LOCATION:bowery poetry club (308 bowery\, manhattan)
END:VEVENT
END:VCALENDAR
