BEGIN:VCALENDAR
BEGIN:VEVENT
SUMMARY:overdrive: PinkNoise Ensemble\, Yuma Uesaka & Simon Kanzler [nycno
 ise]
DTSTART:20260411T193000Z
DTEND:20260411T203000Z
UID:dc21e2fe-47b1-44b1-a334-282becc7e7dc
CREATED:20260425T110530Z
DESCRIPTION:PNE plays works by Cathy Van Eck\, Itz&aacute\; Garc&iacute\;a
 \, Michael Beil\; PNE performers: Johnna Wu\, Iva Casian-Lakos\, Kaichi Hi
 rayama\, Andrew Zhou\, Roberta Michel\, Kanzler\; overdrive curated by Tob
 ias Fandel &amp\; Itz&aacute\; Garc&iacute\;a
LOCATION:cuny elebash hall (365 5th ave\, manhattan)
END:VEVENT
END:VCALENDAR
