BEGIN:VCALENDAR
BEGIN:VEVENT
SUMMARY:overdrive: Janet Biggs\, Noise Catalogue\, Zorica Colic\, Anthony 
 Lyons\, Michał Sieczka\, Tobias Fandel [nycnoise]
DTSTART:20260414T233000Z
DTEND:20260415T003000Z
UID:381d6fb4-90e7-4571-891f-468f068149fe
CREATED:20260425T110816Z
DESCRIPTION:"concert &amp\; screening"
LOCATION:cuny elebash hall (365 5th ave\, manhattan)
END:VEVENT
END:VCALENDAR
