BEGIN:VCALENDAR
BEGIN:VEVENT
SUMMARY:overdrive Live Electronics: Adam Mirza\, Conner Calhoun\, Messica 
 Arson\, Jeffrey Todd-Voyten [nycnoise]
DTSTART:20260415T233000Z
DTEND:20260416T003000Z
UID:52e744ee-c316-49e0-a883-f0db7ffcd376
CREATED:20260425T110659Z
DESCRIPTION:
LOCATION:cuny skylight room (365 5th ave\, manhattan)
END:VEVENT
END:VCALENDAR
