BEGIN:VCALENDAR
BEGIN:VEVENT
SUMMARY:Michiko O [nycnoise]
DTSTART:20260427T233000Z
DTEND:20260428T003000Z
UID:1c94552a-2964-442f-aec9-4779599422e0
CREATED:20260425T091535Z
DESCRIPTION:7pm doors
LOCATION:blank forms (1d) (468 grand ave #1d\, brooklyn)
END:VEVENT
END:VCALENDAR
