BEGIN:VCALENDAR
BEGIN:VEVENT
SUMMARY:Hudson Freeman\, Helenor [nycnoise]
DTSTART:20260402T020000Z
DTEND:20260402T030000Z
UID:275038b0-c7ee-4b9d-bebd-c792a3eac01e
CREATED:20260425T110946Z
DESCRIPTION:7pm sold out\; HF band w/ Chase Elodia\, Aaron Holthus\, Sean 
 Saville
LOCATION:baby's all right (146 broadway\, brooklyn)
END:VEVENT
END:VCALENDAR
