BEGIN:VCALENDAR
BEGIN:VEVENT
SUMMARY:Dance Fool: Analog Soul + Donny Burlin = OEA Collective [nycnoise]
DTSTART:20260402T020000Z
DTEND:20260402T030000Z
UID:cf898424-5062-4dfb-8768-c0768f3862f6
CREATED:20260425T110741Z
DESCRIPTION:
LOCATION:bossa nova civic club (1271 myrtle ave\, brooklyn)
END:VEVENT
END:VCALENDAR
