BEGIN:VCALENDAR
BEGIN:VEVENT
SUMMARY:Cute Fest | Cake with Flutes: Kyrese Washington\, Kimani Bridges\,
  Jennifer Park\, Sydney Weiler [nycnoise]
DTSTART:20260505T000000Z
DTEND:20260505T010000Z
UID:afcb11ce-dab0-4887-9e7f-3bd02a7f7e52
CREATED:20260425T091458Z
DESCRIPTION:"cute fest: putting the 'superfun' in 'superfund site'" lmao\;
  lineup on&nbsp\;fest insta
LOCATION:cutelab
END:VEVENT
END:VCALENDAR
