BEGIN:VCALENDAR
BEGIN:VEVENT
SUMMARY:Ambient / Noise Night: Hypnagogue\, Abdul Sherzai\, Blackstone\, M
 . Sidnam [nycnoise]
DTSTART:20260411T230000Z
DTEND:20260412T000000Z
UID:51114e76-834e-4fa2-a9fb-4ba108e255ff
CREATED:20260425T110658Z
DESCRIPTION:also&nbsp\;insta
LOCATION:fringe records (656 Woodward Ave\, Ridgewood\, NY 11385)
END:VEVENT
END:VCALENDAR
